BEGIN:VCALENDAR
VERSION:2.0
PRODID:-//ChamberMaster//Event Calendar 2.0//EN
METHOD:PUBLISH
X-PUBLISHED-TTL:P3D
REFRESH-INTERVAL:P3D
CALSCALE:GREGORIAN
BEGIN:VEVENT
DTSTART:20260214T180000Z
DTEND:20260214T230000Z
X-MICROSOFT-CDO-ALLDAYEVENT:FALSE
SUMMARY:Valentine's Epicurean Tasting - "Love Letter to the Senses"
DESCRIPTION:Step into Valentine's Weekend with an epicurean experience designed to bring you closer through flavor\, aroma\, texture\, and a little playful surprise. \n\n\n\nPrice: $55 per person\n\n$45 per person (Wine Society member)\n\n\n\nAt Maison La Belle Vie\, our Five-Senses Valentine's Tasting is story-driven journey\, where each pour is paired with a chef-crafted bite and a sensory moment that makes the wine come alive. You'll taste five thoughtfully selected wines (from bright and romantic to deep and velvety)\, each matched with a perfectly portioned pairing that elevates what's in the glass highlighting the way wine changes when it meets salt\, acid\, sweetness\, spice\, and richness.\n\n\n\nAlong the way\, you'll experience interactive "sense" moments like aroma prompts that help you find notes you didn't know you could name\, and texture cues that reveal how tannin\, body\, and finish feel just as much as they taste. This isn't a lecture it's an intimate experience that's approachable\, elevated\, and genuinely fun\, whether you're a dedicated wine lover or simply here for a memorable date.\n\n\n\nAnd then comes the signature finale: "Love Is Blind." You'll enjoy a mystery mini-pour served blind (no pressure just laughs)\, inviting you to trust your senses\, compare impressions\, and see who can nail the wine's personality with only clues from aroma\, texture\, and taste. It's the kind of moment couples talk about on the drive home and friends turn into a tradition.\n\n\n\nPerfect for couples\, Galentine's groups\, and anyone who wants a romantic experience that feels special without being overly formal just the right blend of luxury\, warmth\, and celebration.\n\n\n\nIncludes: 5 wines + 5 chef-crafted bites + 1 blind mystery mini-pour
X-ALT-DESC;FMTTYPE=text/html:<span style="color:rgb(0\, 0\, 0)\; font-family:oracle\,helvetica\,sans-serif\; font-size:16px">Step into Valentine&rsquo\;s Weekend with an epicurean experience designed to bring you closer&mdash\;through flavor\, aroma\, texture\, and a little playful surprise.&nbsp\;</span><br />\n<br />\n<span style="color:rgb(0\, 0\, 0)\; font-family:oracle\,helvetica\,sans-serif\; font-size:16px">Price: $55 per person</span><br />\n<span style="color:rgb(0\, 0\, 0)\; font-family:oracle\,helvetica\,sans-serif\; font-size:16px">$45 per person (Wine Society member)</span><br />\n<br />\n<span style="color:rgb(0\, 0\, 0)\; font-family:oracle\,helvetica\,sans-serif\; font-size:16px">At Maison La Belle Vie\, our Five-Senses Valentine&rsquo\;s Tasting is story-driven journey\, where each pour is paired with a chef-crafted bite and a sensory moment that makes the wine come alive. You&rsquo\;ll taste five thoughtfully selected wines (from bright and romantic to deep and velvety)\, each matched with a perfectly portioned pairing that elevates what&rsquo\;s in the glass&mdash\;highlighting the way wine changes when it meets salt\, acid\, sweetness\, spice\, and richness.</span><br />\n<br />\n<span style="color:rgb(0\, 0\, 0)\; font-family:oracle\,helvetica\,sans-serif\; font-size:16px">Along the way\, you&rsquo\;ll experience interactive &ldquo\;sense&rdquo\; moments&mdash\;like aroma prompts that help you find notes you didn&rsquo\;t know you could name\, and texture cues that reveal how tannin\, body\, and finish feel just as much as they taste. This isn&rsquo\;t a lecture&mdash\;it&rsquo\;s an intimate experience that&rsquo\;s approachable\, elevated\, and genuinely fun\, whether you&rsquo\;re a dedicated wine lover or simply here for a memorable date.</span><br />\n<br />\n<span style="color:rgb(0\, 0\, 0)\; font-family:oracle\,helvetica\,sans-serif\; font-size:16px">And then comes the signature finale: &ldquo\;Love Is Blind.&rdquo\; You&rsquo\;ll enjoy a mystery mini-pour served blind (no pressure&mdash\;just laughs)\, inviting you to trust your senses\, compare impressions\, and see who can nail the wine&rsquo\;s personality with only clues from aroma\, texture\, and taste. It&rsquo\;s the kind of moment couples talk about on the drive home&mdash\;and friends turn into a tradition.</span><br />\n<br />\n<span style="color:rgb(0\, 0\, 0)\; font-family:oracle\,helvetica\,sans-serif\; font-size:16px">Perfect for couples\, Galentine&rsquo\;s groups\, and anyone who wants a romantic experience that feels special without being overly formal&mdash\;just the right blend of luxury\, warmth\, and celebration.</span><br />\n<br />\n<span style="color:rgb(0\, 0\, 0)\; font-family:oracle\,helvetica\,sans-serif\; font-size:16px">Includes: 5 wines + 5 chef-crafted bites + 1 blind mystery mini-pour</span>
LOCATION:Maison La Belle Vie Winery and Eatery 3575 G Rd Palisade\, CO 81526
UID:e.562.14490
SEQUENCE:3
DTSTAMP:20260421T115855Z
URL:https://business.palisadecoc.com/events/details/valentine-s-epicurean-tasting-love-letter-to-the-senses-02-14-2026-14490
END:VEVENT

END:VCALENDAR
