BEGIN:VCALENDAR
VERSION:2.0
PRODID:-//ChamberMaster//Event Calendar 2.0//EN
METHOD:PUBLISH
X-PUBLISHED-TTL:P3D
REFRESH-INTERVAL:P3D
CALSCALE:GREGORIAN
BEGIN:VEVENT
DTSTART:20250816T000000Z
DTEND:20250816T020000Z
X-MICROSOFT-CDO-ALLDAYEVENT:FALSE
SUMMARY:The Mike Rasmussen Experience- at TerraVin Cellars!
DESCRIPTION:Join TerraVin Cellars for the Mike Rasmussen Experience!\n\nMike brings enthusiastic energy and captivating grooves to every performance. He's currently gearing up to release his second album\, Fire Pig Maestro: A Groove Odyssey a dynamic sequel to his debut album\, Where to Begin.\n\nDon't miss this unforgettable night of music\, wine\, and good vibes! Friday August 15th from 6-8 pm. \n\nBuild your own charcuterie\, try our Seasonal Peach Spritzer or one of our newly released wines and experience an evening like no other!
X-ALT-DESC;FMTTYPE=text/html:<p><span style="color:#000080"><strong>Join TerraVin Cellars for the Mike Rasmussen Experience!</strong><br />\nMike brings enthusiastic energy and captivating grooves to every performance. He&rsquo\;s currently gearing up to release his second album\, <em>Fire Pig Maestro: A Groove Odyssey</em>&mdash\;a dynamic sequel to his debut album\, <em>Where to Begin</em>.</span></p>\n\n<p><span style="color:#000080">Don&rsquo\;t miss this unforgettable night of music\, wine\, and good vibes! Friday August 15th from 6-8 pm.&nbsp\;<br />\nBuild your own charcuterie\, try our Seasonal Peach Spritzer or one of our newly released wines and experience an evening like no other!&nbsp\;</span></p>\n
LOCATION:TerraVin Cellars 349 W 8th Street Palisade\, CO 81526
UID:e.562.13793
SEQUENCE:3
DTSTAMP:20260422T194714Z
URL:https://business.palisadecoc.com/events/details/the-mike-rasmussen-experience-at-terravin-cellars-13793
END:VEVENT

END:VCALENDAR
