BEGIN:VCALENDAR
VERSION:2.0
PRODID:-//ChamberMaster//Event Calendar 2.0//EN
METHOD:PUBLISH
X-PUBLISHED-TTL:P3D
REFRESH-INTERVAL:P3D
CALSCALE:GREGORIAN
BEGIN:VEVENT
DTSTART:20250817T150000Z
DTEND:20250817T190000Z
X-MICROSOFT-CDO-ALLDAYEVENT:FALSE
SUMMARY:Sundays Farmer's Market
DESCRIPTION:
X-ALT-DESC;FMTTYPE=text/html:
LOCATION:
UID:e.562.13064
SEQUENCE:3
DTSTAMP:20260422T200540Z
URL:https://business.palisadecoc.com/events/details/sundays-farmer-s-market-08-17-2025-13064
END:VEVENT

END:VCALENDAR
