BEGIN:VCALENDAR
VERSION:2.0
PRODID:-//ChamberMaster//Event Calendar 2.0//EN
METHOD:PUBLISH
X-PUBLISHED-TTL:P3D
REFRESH-INTERVAL:P3D
CALSCALE:GREGORIAN
BEGIN:VEVENT
DTSTART:20260307T003000Z
DTEND:20260307T043000Z
X-MICROSOFT-CDO-ALLDAYEVENT:FALSE
SUMMARY:*SOLD OUT* 2026 Annual Member Banquet & Community Awards
DESCRIPTION:Join us on March 6th at the Cameo Shooting & Education Complex for an evening dedicated to celebrating the Palisade business community. This annual banquet brings together local leaders\, partners\, and community members for a night of connection\, recognition\, and shared success.\n\n\n\nVote Here for Citizen of The Year\, Friend of Agriculture\, & Business of The Year!\n\n\n\nEnjoy a warm and inviting evening featuring:\n\nCocktail Reception: 5:30 6:30 p.m.\n\nDinner Service: 6:30 p.m.\n\nLive Entertainment\n\nAwards Ceremony: Immediately following entertainment\nThis year's theme\, Legends of the West\, pays tribute to the pioneers\, innovators\, and community leaders\, past and present\, who embody the resilience and character that define Palisade. \n\nJoin us as we celebrate those whose stories and contributions make our community a place to be proud of.\n Cowboy Chic Attire recommended.\n\n\n\nWe look forward to celebrating with you!
X-ALT-DESC;FMTTYPE=text/html:<span style="font-size:16px\;"><span style="font-family:verdana\;">Join us on March 6th at the Cameo Shooting &amp\; Education Complex for an evening dedicated to celebrating the Palisade business community. This annual banquet brings together local leaders\, partners\, and community members for a night of connection\, recognition\, and shared success.<br />\n<br />\n<strong><a href="https://form.jotform.com/260335925325052">Vote Here</a></strong> for Citizen of The Year\, Friend of Agriculture\, &amp\; Business of The Year!<br />\n<br />\nEnjoy a warm and inviting evening featuring:<br />\nCocktail Reception: 5:30&ndash\;6:30 p.m.<br />\nDinner Service: 6:30 p.m.<br />\nLive Entertainment<br />\nAwards Ceremony: Immediately following entertainment</span></span>\n<p class="cvGsUA direction-ltr align-justify para-style-body" style="color: rgba(29\,41\,41\,var(--O42jJQ\,1))\; caret-color: rgb(29\, 41\, 41)\; --8sD0Kg: none\; font-family: YAFdJjvw9Ps_0\, _fb_\, auto\; --cyV3ZQ: 16.1799px\; --gJPlXQ: 1.43\; --s8NbEA: p\; line-height: 23px\;"><span style="font-size:16px\;"><span style="font-family:verdana\;"><span class="a_GcMg font-feature-liga-off font-feature-clig-off font-feature-calt-off text-decoration-none text-strikethrough-none" style="color: rgba(29\,41\,41\,var(--O42jJQ\,1))\; --Ys-XuQ: none\; font-kerning: none\;">This year&rsquo\;s theme\,</span><span class="a_GcMg font-feature-liga-off font-feature-clig-off font-feature-calt-off text-decoration-none text-strikethrough-none" style="color: rgba(29\,41\,41\,var(--O42jJQ\,1))\; --Ys-XuQ: none\; font-style: italic\; font-kerning: none\;"> Legends of the West</span><span class="a_GcMg font-feature-liga-off font-feature-clig-off font-feature-calt-off text-decoration-none text-strikethrough-none" style="color: rgba(29\,41\,41\,var(--O42jJQ\,1))\; --Ys-XuQ: none\; font-kerning: none\;">\, pays tribute to the pioneers\, innovators\, and community leaders\, past and present\, who embody the resilience and character that define Palisade.</span><span class="a_GcMg font-feature-liga-off font-feature-clig-off font-feature-calt-off text-decoration-none text-strikethrough-none white-space-prewrap" style="color: rgba(29\,41\,41\,var(--O42jJQ\,1))\; --Ys-XuQ: none\; font-kerning: none\;"> </span></span></span></p>\n\n<p class="cvGsUA direction-ltr align-justify para-style-body" style="color: rgba(29\,41\,41\,var(--O42jJQ\,1))\; caret-color: rgb(29\, 41\, 41)\; --8sD0Kg: none\; font-family: YAFdJjvw9Ps_0\, _fb_\, auto\; --cyV3ZQ: 16.1799px\; --gJPlXQ: 1.43\; --s8NbEA: p\; line-height: 23px\;"><span style="font-size:16px\;"><span style="font-family:verdana\;"><span class="a_GcMg font-feature-liga-off font-feature-clig-off font-feature-calt-off text-decoration-none text-strikethrough-none" style="color: rgba(29\,41\,41\,var(--O42jJQ\,1))\; --Ys-XuQ: none\; font-kerning: none\;">Join us as we celebrate those whose stories and contributions make our community a place to be proud of.</span></span></span></p>\n<span style="font-size:16px\;"><span style="font-family:verdana\;"> Cowboy Chic Attire recommended.<br />\n<br />\nWe look forward to celebrating with you!</span></span>
LOCATION:Cameo Shooting And Education Complex 3934 I 9/10 Rd\, Palisade\, CO 81526
UID:e.562.14105
SEQUENCE:3
DTSTAMP:20260421T115420Z
URL:https://business.palisadecoc.com/events/details/sold-out-2026-annual-member-banquet-community-awards-14105
END:VEVENT

END:VCALENDAR
