BEGIN:VCALENDAR
VERSION:2.0
PRODID:-//ChamberMaster//Event Calendar 2.0//EN
METHOD:PUBLISH
X-PUBLISHED-TTL:P3D
REFRESH-INTERVAL:P3D
CALSCALE:GREGORIAN
BEGIN:VEVENT
DTSTART:20250606T180000Z
DTEND:20250606T190000Z
X-MICROSOFT-CDO-ALLDAYEVENT:FALSE
SUMMARY:Peachy Pedicab Ribbon Cutting
DESCRIPTION:We're thrilled to welcome Peachy Pedicab\, Palisade's newest pedicab service\, with a special ribbon-cutting ceremony at the Palisade Plaza.\n\n \n\nEnjoy free vanilla ice cream with peach toppings\, relax to the sounds of live acoustic music\, and help us celebrate this exciting new addition to our community!\n\n \n\nThis is a free\, family-friendly event\, and everyone is welcome! Come show your support for a new local business and enjoy some music while you have ice cream!
X-ALT-DESC;FMTTYPE=text/html:<div class="xdj266r x11i5rnm xat24cr x1mh8g0r x1vvkbs" style="margin: 0px\; overflow-wrap: break-word\; font-family: &quot\;Segoe UI Historic&quot\;\, &quot\;Segoe UI&quot\;\, Helvetica\, Arial\, sans-serif\; color: rgb(8\, 8\, 9)\; font-size: 15px\;">We&#39\;re thrilled to welcome Peachy Pedicab\, Palisade&#39\;s newest pedicab service\, with a special ribbon-cutting ceremony at the Palisade Plaza.<br />\n&nbsp\;</div>\n\n<div class="x11i5rnm xat24cr x1mh8g0r x1vvkbs xtlvy1s" style="margin: 0.5em 0px 0px\; overflow-wrap: break-word\; font-family: &quot\;Segoe UI Historic&quot\;\, &quot\;Segoe UI&quot\;\, Helvetica\, Arial\, sans-serif\; color: rgb(8\, 8\, 9)\; font-size: 15px\;">Enjoy free vanilla ice cream with peach toppings\, relax to the sounds of live acoustic music\, and help us celebrate this exciting new addition to our community!<br />\n&nbsp\;</div>\n\n<div class="x11i5rnm xat24cr x1mh8g0r x1vvkbs xtlvy1s" style="margin: 0.5em 0px 0px\; overflow-wrap: break-word\; font-family: &quot\;Segoe UI Historic&quot\;\, &quot\;Segoe UI&quot\;\, Helvetica\, Arial\, sans-serif\; color: rgb(8\, 8\, 9)\; font-size: 15px\;">This is a free\, family-friendly event\, and everyone is welcome! Come show your support for a new local business and enjoy some music while you have ice cream!</div>\n
LOCATION:Downtown Palisade in the Plaza by 3rd and Main
UID:e.562.13637
SEQUENCE:3
DTSTAMP:20260422T165702Z
URL:https://business.palisadecoc.com/events/details/peachy-pedicab-ribbon-cutting-13637
END:VEVENT

END:VCALENDAR
