BEGIN:VCALENDAR
VERSION:2.0
PRODID:-//ChamberMaster//Event Calendar 2.0//EN
METHOD:PUBLISH
X-PUBLISHED-TTL:P3D
REFRESH-INTERVAL:P3D
CALSCALE:GREGORIAN
BEGIN:VEVENT
DTSTART:20250814T220000Z
DTEND:20250815T010000Z
X-MICROSOFT-CDO-ALLDAYEVENT:FALSE
SUMMARY:Palisade Insectary 80th Birthday Celebration
DESCRIPTION:You are cordially invited to Palisade Insectary's birthday celebration on Thursday\, August 14th from 4:00pm - 7:00pm. We are pleased to announce that Governor Polis is scheduled to attend and Kate Greenberg\, the Commissioner of Agriculture will be speaking at 5:00 to celebrate our Producers\, Partners and CDA Team. Food Trucks\, Kid-Friendly Fun and Tours of the Insectary.
X-ALT-DESC;FMTTYPE=text/html:You are cordially invited to Palisade Insectary&#39\;s birthday celebration on Thursday\, August 14th from 4:00pm - 7:00pm. We are pleased to announce that Governor Polis is scheduled to attend and Kate Greenberg\, the Commissioner of Agriculture will be speaking at 5:00 to celebrate our Producers\, Partners and CDA Team. Food Trucks\, Kid-Friendly Fun and Tours of the Insectary.
LOCATION:Palisade Insectary
UID:e.562.13796
SEQUENCE:3
DTSTAMP:20260422T200300Z
URL:https://business.palisadecoc.com/events/details/palisade-insectary-80th-birthday-celebration-13796
END:VEVENT

END:VCALENDAR
