BEGIN:VCALENDAR
VERSION:2.0
PRODID:-//ChamberMaster//Event Calendar 2.0//EN
METHOD:PUBLISH
X-PUBLISHED-TTL:P3D
REFRESH-INTERVAL:P3D
CALSCALE:GREGORIAN
BEGIN:VEVENT
DTSTART:20250723T133000Z
DTEND:20250723T150000Z
X-MICROSOFT-CDO-ALLDAYEVENT:FALSE
SUMMARY:Palisade Growth Network
DESCRIPTION:The Palisade Growth Network is a professional leads group focused on building meaningful business connections\, sharing referrals\, and supporting local growth through collaboration and networking.\n\nJoin us for engaging conversations\, valuable connections\, and the opportunity to grow your business with like-minded professionals!
X-ALT-DESC;FMTTYPE=text/html:<p data-end="227" data-start="0">The Palisade Growth Network is a professional leads group focused on building meaningful business connections\, sharing referrals\, and supporting local growth through collaboration and networking.</p>\n\n<p data-end="364" data-is-last-node="" data-is-only-node="" data-start="229"><strong data-end="364" data-is-last-node="" data-start="229">Join us for engaging conversations\, valuable connections\, and the opportunity to grow your business with like-minded professionals!</strong></p>\n
LOCATION:The Artful Cup 301 Main St\, Palisade\, CO 81526
UID:e.562.13700
SEQUENCE:3
DTSTAMP:20260422T182223Z
URL:https://business.palisadecoc.com/events/details/palisade-growth-network-13700
END:VEVENT

END:VCALENDAR
