BEGIN:VCALENDAR
VERSION:2.0
PRODID:-//ChamberMaster//Event Calendar 2.0//EN
METHOD:PUBLISH
X-PUBLISHED-TTL:P3D
REFRESH-INTERVAL:P3D
CALSCALE:GREGORIAN
BEGIN:VEVENT
DTSTART:20250814T210000Z
DTEND:20250815T010000Z
X-MICROSOFT-CDO-ALLDAYEVENT:FALSE
SUMMARY:Pali Thai @ The Ordinary Fellow Winery
DESCRIPTION:VOTED COLORADO'S BEST FOOD TRUCK!\n\nEast meets West with a convergence of Thai cuisine and love of sharing delicious dishes with community.\n\nIt doesn't get better than Pam's food and Mike's hospitality.\n\nGrab a curry\, some drunken noodles\, Pad Thai\, a glass of wine and get your socks knocked off.
X-ALT-DESC;FMTTYPE=text/html:<p>VOTED COLORADO&rsquo\;S BEST FOOD TRUCK!</p>\n\n<p>East meets West with a convergence of Thai cuisine and love of sharing delicious dishes with community.</p>\n\n<p>It doesn&rsquo\;t get better than Pam&rsquo\;s food and Mike&rsquo\;s hospitality.</p>\n\n<p>Grab a curry\, some drunken noodles\, Pad Thai\, a glass of wine and get your socks knocked off.</p>\n
LOCATION:The Ordinary Fellow Winery 202 Peach Ave\, Palisade\, CO 81526
UID:e.562.13752
SEQUENCE:3
DTSTAMP:20260422T200514Z
URL:https://business.palisadecoc.com/events/details/pali-thai-the-ordinary-fellow-winery-08-14-2025-13752
END:VEVENT

END:VCALENDAR
