BEGIN:VCALENDAR
VERSION:2.0
PRODID:-//ChamberMaster//Event Calendar 2.0//EN
METHOD:PUBLISH
X-PUBLISHED-TTL:P3D
REFRESH-INTERVAL:P3D
CALSCALE:GREGORIAN
BEGIN:VEVENT
DTSTART;VALUE=DATE:20250820
DTEND;VALUE=DATE:20250821
TRANSP:TRANSPARENT
X-MICROSOFT-CDO-ALLDAYEVENT:TRUE
SUMMARY:No Business After Hours
DESCRIPTION:Peach Days\, August 6th & 17th \n\nVisit: Palisadepeachfest.com for list of events
X-ALT-DESC;FMTTYPE=text/html:Peach Days\, August 6th &amp\; 17th&nbsp\;<br />\nVisit: Palisadepeachfest.com for list of events
LOCATION:
UID:e.562.12737
SEQUENCE:3
DTSTAMP:20260422T195952Z
URL:https://business.palisadecoc.com/events/details/no-business-after-hours-12737
END:VEVENT

END:VCALENDAR
