BEGIN:VCALENDAR
VERSION:2.0
PRODID:-//ChamberMaster//Event Calendar 2.0//EN
METHOD:PUBLISH
X-PUBLISHED-TTL:P3D
REFRESH-INTERVAL:P3D
CALSCALE:GREGORIAN
BEGIN:VEVENT
DTSTART:20260218T000000Z
DTEND:20260218T040000Z
X-MICROSOFT-CDO-ALLDAYEVENT:FALSE
SUMMARY:Mardi Gras Celebration & Industry Night - 2026
DESCRIPTION:Experience the magic of Mardi Gras at Maison La Belle Vie Winery & Eatery an evening of bold flavors\, festive energy\, and perfectly paired wines in the heart of Palisade.\n\n\n\nYour ticket includes a welcome glass of wine to kick things off\, plus unlimited food all night. Dig into our Chicken & Sausage Gumbo\, paired with your choice of Merlot\, Syrah\, or Ros \, then finish with the sweet tradition of King Cake\, complemented by Muscat or Vin de P che. Enjoy $10 glasses of wine\, colorful beads\, big New Orleans spirit\, and live music with Fred all set against stunning winery views.\n\n\n\nWhether you're celebrating with friends or just craving a night out with great food and wine\, this is your ticket to a little Louisiana-inspired fun in Colorado. Wine Society members receive a special discount on tickets\, so be sure to log in/mention your membership when booking. Don't miss it laissez les bons temps rouler!
X-ALT-DESC;FMTTYPE=text/html:Experience the magic of Mardi Gras at Maison La Belle Vie Winery &amp\; Eatery&mdash\;an evening of bold flavors\, festive energy\, and perfectly paired wines in the heart of Palisade.<br />\n<br />\nYour ticket includes a welcome glass of wine to kick things off\, plus unlimited food all night. Dig into our Chicken &amp\; Sausage Gumbo\, paired with your choice of Merlot\, Syrah\, or Ros&eacute\;\, then finish with the sweet tradition of King Cake\, complemented by Muscat or Vin de P&ecirc\;che. Enjoy $10 glasses of wine\, colorful beads\, big New Orleans spirit\, and live music with Fred&mdash\;all set against stunning winery views.<br />\n<br />\nWhether you&rsquo\;re celebrating with friends or just craving a night out with great food and wine\, this is your ticket to a little Louisiana-inspired fun in Colorado. Wine Society members receive a special discount on tickets\, so be sure to log in/mention your membership when booking. Don&rsquo\;t miss it&mdash\;laissez les bons temps rouler!
LOCATION:Maison La Belle Vie Winery 3575 G Road Palisade\, Colorado 81526
UID:e.562.14517
SEQUENCE:3
DTSTAMP:20260421T131950Z
URL:https://business.palisadecoc.com/events/details/mardi-gras-celebration-industry-night-2026-14517
END:VEVENT

END:VCALENDAR
