BEGIN:VCALENDAR
VERSION:2.0
PRODID:-//ChamberMaster//Event Calendar 2.0//EN
METHOD:PUBLISH
X-PUBLISHED-TTL:P3D
REFRESH-INTERVAL:P3D
CALSCALE:GREGORIAN
BEGIN:VEVENT
DTSTART:20250702T180000Z
DTEND:20250702T190000Z
X-MICROSOFT-CDO-ALLDAYEVENT:FALSE
SUMMARY:Lunch & Learn - Fraud Education
DESCRIPTION:Fraud is evolving. Are you keeping up? Over the past couple of months\, we have noticed an increasing amount of fraud and scam attempts targeting businesses in Mesa County. With everything we do being online\, it has become more important than ever to make sure that your information and accounts are safe and that your business follows some cybersecurity best practices.\n\n\n\nFor our July Lunch & Learn\, Vectra Bank is joining us to talk about fraud prevention and some trainings and resources that are available to ALL businesses! \n\n\n\nThis will also be a great opportunity to get oriented with the Clifton Community Campus! It's an amazing recent addition to Mesa County and serves as a wonderful resource for the community!
X-ALT-DESC;FMTTYPE=text/html:Fraud is evolving. Are you keeping up? Over the past couple of months\, we have noticed an increasing amount of fraud and scam attempts targeting businesses in Mesa County. With everything we do being online\, it has become more important than ever to make sure that your information and accounts are safe and that your business follows some cybersecurity best practices.<br />\n<br />\nFor our July Lunch &amp\; Learn\, Vectra Bank is joining us to talk about fraud prevention and some trainings and resources that are available to ALL businesses!&nbsp\;<br />\n<br />\nThis will also be a great opportunity to get oriented with the Clifton Community Campus! It&#39\;s an amazing recent addition to Mesa County and serves as a wonderful resource for the community!
LOCATION:Clifton Community Campus 3270 D 1/2 Rd\, Clifton\, CO 81520
UID:e.562.12688
SEQUENCE:3
DTSTAMP:20260422T182419Z
URL:https://business.palisadecoc.com/events/details/lunch-learn-fraud-education-12688
END:VEVENT

END:VCALENDAR
