BEGIN:VCALENDAR
VERSION:2.0
PRODID:-//ChamberMaster//Event Calendar 2.0//EN
METHOD:PUBLISH
X-PUBLISHED-TTL:P3D
REFRESH-INTERVAL:P3D
CALSCALE:GREGORIAN
BEGIN:VEVENT
DTSTART:20260506T180000Z
DTEND:20260506T190000Z
X-MICROSOFT-CDO-ALLDAYEVENT:FALSE
SUMMARY:Lunch & Learn:Building a Stronger Community with Mosaic
DESCRIPTION:Mosaic of Western Colorado will be joining us for our upcoming Lunch & Learn to share the impactful work they are doing in our community. This is a great opportunity to learn more about the resources\, programs\, and support systems they provide to individuals and families across the Western Slope.\n\nJoin us to hear directly from the Mosaic team as they walk through their services and how local businesses can better understand\, support\, and connect with the populations they serve. Building awareness around these resources helps create a stronger\, more inclusive community for everyone.\n\nYour attendance not only provides valuable insight for your business and team\, but also shows support for an organization that plays a vital role in improving lives right here in our community.
X-ALT-DESC;FMTTYPE=text/html:<p data-end="299" data-start="0">Mosaic of Western Colorado will be joining us for our upcoming Lunch &amp\; Learn to share the impactful work they are doing in our community. This is a great opportunity to learn more about the resources\, programs\, and support systems they provide to individuals and families across the Western Slope.</p>\n\n<p data-end="592" data-start="301">Join us to hear directly from the Mosaic team as they walk through their services and how local businesses can better understand\, support\, and connect with the populations they serve. Building awareness around these resources helps create a stronger\, more inclusive community for everyone.</p>\n\n<p data-end="787" data-is-last-node="" data-is-only-node="" data-start="594">Your attendance not only provides valuable insight for your business and team\, but also shows support for an organization that plays a vital role in improving lives right here in our community.</p>\n
LOCATION:The Blue Beryl Winery 3587 G 7/10 Rd Palisade\, CO 81526
UID:e.562.14521
SEQUENCE:3
DTSTAMP:20260421T095926Z
URL:https://business.palisadecoc.com/events/details/lunch-learn-building-a-stronger-community-with-mosaic-14521
END:VEVENT

END:VCALENDAR
