BEGIN:VCALENDAR
VERSION:2.0
PRODID:-//ChamberMaster//Event Calendar 2.0//EN
METHOD:PUBLISH
X-PUBLISHED-TTL:P3D
REFRESH-INTERVAL:P3D
CALSCALE:GREGORIAN
BEGIN:VEVENT
DTSTART:20260204T190000Z
DTEND:20260204T200000Z
X-MICROSOFT-CDO-ALLDAYEVENT:FALSE
SUMMARY:Lunch & Learn: Websites\, Google\, & SEO 101
DESCRIPTION:A strong online presence is no longer optional for small businesses\, but it does not have to be overwhelming or expensive. Join us for this Lunch & Learn as experts from Long Point Digital break down the digital basics every small business needs to succeed.\n\n\n\nThey will be covering why having a website matters\, how Google My Business helps customers find you\, and what SEO really means in simple\, practical terms. You will also walk away with must-have tips and best practices designed specifically for business owners with limited time\, budgets\, and resources.\n\n\n\nThis is perfect for small business owners\, entrepreneurs\, and anyone looking to strengthen their marketing through their online presence.\n\n\n\nThank you to BBSI for being this quarter's Lunch & Learn sponsor and helping us provide our members with a free lunch while they learn about community resources and topics that help them improve!
X-ALT-DESC;FMTTYPE=text/html:A strong online presence is no longer optional for small businesses\, but it does not have to be overwhelming or expensive. Join us for this Lunch &amp\; Learn as experts from Long Point Digital break down the digital basics every small business needs to succeed.<br />\n<br />\nThey will be covering why having a website matters\, how Google My Business helps customers find you\, and what SEO really means in simple\, practical terms. You will also walk away with must-have tips and best practices designed specifically for business owners with limited time\, budgets\, and resources.<br />\n<br />\nThis is perfect for small business owners\, entrepreneurs\, and anyone looking to strengthen their marketing through their online presence.<br />\n<br />\nThank you to BBSI for being this quarter&#39\;s Lunch &amp\; Learn sponsor and helping us provide our members with a free lunch while they learn about community resources and topics that help them improve!
LOCATION:Palisade Chamber of Commerce Office 305 Main Street Ste. 1
UID:e.562.14501
SEQUENCE:3
DTSTAMP:20260419T183606Z
URL:https://business.palisadecoc.com/events/details/lunch-learn-14501
END:VEVENT

END:VCALENDAR
