BEGIN:VCALENDAR
VERSION:2.0
PRODID:-//ChamberMaster//Event Calendar 2.0//EN
METHOD:PUBLISH
X-PUBLISHED-TTL:P3D
REFRESH-INTERVAL:P3D
CALSCALE:GREGORIAN
BEGIN:VEVENT
DTSTART:20230919T220000Z
DTEND:20230920T000000Z
X-MICROSOFT-CDO-ALLDAYEVENT:FALSE
SUMMARY:Local's Night Happy Hour at The Sneak Line
DESCRIPTION:
X-ALT-DESC;FMTTYPE=text/html:
LOCATION:
UID:e.562.10408
SEQUENCE:3
DTSTAMP:20260420T022902Z
URL:https://business.palisadecoc.com/events/details/local-s-night-happy-hour-at-the-sneak-line-09-19-2023-10408
END:VEVENT

END:VCALENDAR
