BEGIN:VCALENDAR
VERSION:2.0
PRODID:-//ChamberMaster//Event Calendar 2.0//EN
METHOD:PUBLISH
X-PUBLISHED-TTL:P3D
REFRESH-INTERVAL:P3D
CALSCALE:GREGORIAN
BEGIN:VEVENT
DTSTART:20260323T220000Z
DTEND:20260323T230000Z
X-MICROSOFT-CDO-ALLDAYEVENT:FALSE
SUMMARY:Insectary Grow House Ribbon Cutting
DESCRIPTION:Join us in celebrating Palisade Insectary's new Grow House! This addition to their location will allow their team to continue the important work that they are doing into the winter.
X-ALT-DESC;FMTTYPE=text/html:Join us in celebrating Palisade Insectary&#39\;s new Grow House! This addition to their location will allow their team to continue the important work that they are doing into the winter.
LOCATION:Palisade Insectary 750 37 8/10 Rd\, Palisade\, CO 81526
UID:e.562.14557
SEQUENCE:3
DTSTAMP:20260421T105959Z
URL:https://business.palisadecoc.com/events/details/insectary-grow-house-ribbon-cutting-14557
END:VEVENT

END:VCALENDAR
