BEGIN:VCALENDAR
VERSION:2.0
PRODID:-//ChamberMaster//Event Calendar 2.0//EN
METHOD:PUBLISH
X-PUBLISHED-TTL:P3D
REFRESH-INTERVAL:P3D
CALSCALE:GREGORIAN
BEGIN:VEVENT
DTSTART:20260508T230000Z
DTEND:20260509T020000Z
X-MICROSOFT-CDO-ALLDAYEVENT:FALSE
SUMMARY:Fire Horse Rising: Spirit of the Western Slope
DESCRIPTION:Join us for the Opening Reception of Fire Horse Rising: Spirit of the Western Slope\, a community-driven equine art exhibition celebrating the beauty\, movement\, and cultural legacy of horses in our region. This special evening is FREE and open to the public and features artwork in photography\, painting\, sculpture\, and mixed media by local and regional artists. Enjoy a community-centered evening of art\, storytelling\, and connection\, including:   Wild horse talk by George Brauneis (Eagles & Wild Horses Ranch) Optional:   Painting party fundraiser -$20 per person Come experience the spirit of the Fire Horse through art and community.
X-ALT-DESC;FMTTYPE=text/html:Join us for the Opening Reception of Fire Horse Rising: Spirit of the Western Slope\, a community-driven equine art exhibition celebrating the beauty\, movement\, and cultural legacy of horses in our region. This special evening is FREE and open to the public and features artwork in photography\, painting\, sculpture\, and mixed media by local and regional artists. Enjoy a community-centered evening of art\, storytelling\, and connection\, including: &bull\; Wild horse talk by George Brauneis (Eagles &amp\; Wild Horses Ranch) Optional: &bull\; Painting party fundraiser -$20 per person Come experience the spirit of the Fire Horse through art and community.
LOCATION:Blue Pig Gallery 101 W 3rd St\, Palisade\, CO
UID:e.562.15091
SEQUENCE:3
DTSTAMP:20260421T113911Z
URL:https://business.palisadecoc.com/events/details/fire-horse-rising-spirit-of-the-western-slope-15091
END:VEVENT

END:VCALENDAR
