BEGIN:VCALENDAR
VERSION:2.0
PRODID:-//ChamberMaster//Event Calendar 2.0//EN
METHOD:PUBLISH
X-PUBLISHED-TTL:P3D
REFRESH-INTERVAL:P3D
CALSCALE:GREGORIAN
BEGIN:VEVENT
DTSTART:20250808T210000Z
DTEND:20250809T000000Z
X-MICROSOFT-CDO-ALLDAYEVENT:FALSE
SUMMARY:Ethan J. Perry Skeleton Crew Tour 2025
DESCRIPTION:Boulder-based artist Ethan J. Perry performs solo acoustic shows featuring introspective and genre-blending music that promises an intimate\, heartfelt experience.
X-ALT-DESC;FMTTYPE=text/html:Boulder-based artist Ethan J. Perry performs solo acoustic shows featuring introspective and genre-blending music that promises an intimate\, heartfelt experience.
LOCATION:The Blue Beryl Winery
UID:e.562.13734
SEQUENCE:3
DTSTAMP:20260422T195053Z
URL:https://business.palisadecoc.com/events/details/ethan-j-perry-skeleton-crew-tour-2025-08-08-2025-13734
END:VEVENT

END:VCALENDAR
