BEGIN:VCALENDAR
VERSION:2.0
PRODID:-//ChamberMaster//Event Calendar 2.0//EN
METHOD:PUBLISH
X-PUBLISHED-TTL:P3D
REFRESH-INTERVAL:P3D
CALSCALE:GREGORIAN
BEGIN:VEVENT
DTSTART:20260405T160000Z
DTEND:20260405T210000Z
X-MICROSOFT-CDO-ALLDAYEVENT:FALSE
SUMMARY:Easter Brunch
DESCRIPTION:Easter Brunch at Maison La Belle Vie Winery & Eatery\n\n\n\nCelebrate Easter in style with a delightful brunch experience at Maison La Belle Vie Winery & Eatery. Surrounded by the charm of our vineyard\, indulge in a thoughtfully curated menu that blends classic favorites with a touch of elegance.\n\n\n\nPair your meal with a selection of our signature wines or refreshing mimosas crafted with locally sourced ingredients. Enjoy the serene ambiance of our winery and eatery as you toast to a joyous Easter with family and friends.\n\n\n\nJoin us for a celebration of flavors\, community\, and the beauty of the season. Reserve your table today and make your Easter truly unforgettable!
X-ALT-DESC;FMTTYPE=text/html:<span style="color:var(--color-fg-default)\; font-family:var(--typography-body02-font-family)\; font-size:var(--typography-body02-font-size)"><span style="font-family:inherit\; font-size:16px">Easter Brunch at Maison La Belle Vie Winery &amp\; Eatery<br />\n<br />\nCelebrate Easter in style with a delightful brunch experience at Maison La Belle Vie Winery &amp\; Eatery. Surrounded by the charm of our vineyard\, indulge in a thoughtfully curated menu that blends classic favorites with a touch of elegance.<br />\n<br />\nPair your meal with a selection of our signature wines or refreshing mimosas crafted with locally sourced ingredients. Enjoy the serene ambiance of our winery and eatery as you toast to a joyous Easter with family and friends.<br />\n<br />\nJoin us for a celebration of flavors\, community\, and the beauty of the season. Reserve your table today and make your Easter truly unforgettable!</span></span>\n<div>&nbsp\;</div>\n
LOCATION:Maison La Belle Vie Winery 3575 G Rd Palisade\, CO 81526
UID:e.562.14514
SEQUENCE:3
DTSTAMP:20260423T084820Z
URL:https://business.palisadecoc.com/events/details/easter-brunch-04-05-2026-14514
END:VEVENT

END:VCALENDAR
