BEGIN:VCALENDAR
VERSION:2.0
PRODID:-//ChamberMaster//Event Calendar 2.0//EN
METHOD:PUBLISH
X-PUBLISHED-TTL:P3D
REFRESH-INTERVAL:P3D
CALSCALE:GREGORIAN
BEGIN:VEVENT
DTSTART:20250523T200000Z
DTEND:20250524T000000Z
X-MICROSOFT-CDO-ALLDAYEVENT:FALSE
SUMMARY:Early Morning Orchard Farmstand
DESCRIPTION:Early Morning Orchard is a regenerative fruit and vegetable farm located in Palisade. We have a farmstand open every Friday from 2-6 PM where you can purchase seasonal produce\, plants\, seeds\, bread\, and more!
X-ALT-DESC;FMTTYPE=text/html:Early Morning Orchard is a regenerative fruit and vegetable farm located in Palisade. We have a farmstand open every Friday from 2-6 PM where you can purchase seasonal produce\, plants\, seeds\, bread\, and more!
LOCATION:Early Morning Orchard\, 3694 G 4/10 Rd\, Palisade\, CO 81526
UID:e.562.13436
SEQUENCE:3
DTSTAMP:20260420T134347Z
URL:https://business.palisadecoc.com/events/details/early-morning-orchard-farmstand-05-23-2025-13436
END:VEVENT

END:VCALENDAR
