BEGIN:VCALENDAR
VERSION:2.0
PRODID:-//ChamberMaster//Event Calendar 2.0//EN
METHOD:PUBLISH
X-PUBLISHED-TTL:P3D
REFRESH-INTERVAL:P3D
CALSCALE:GREGORIAN
BEGIN:VEVENT
DTSTART:20260424T230000Z
DTEND:20260425T020000Z
X-MICROSOFT-CDO-ALLDAYEVENT:FALSE
SUMMARY:Colterris Collections After Dark
DESCRIPTION:Every Friday night\, Colterris Collections location at 3708 G Road from 5-8pm on Friday nights will have "Collections After Dark" with rotating food trucks\, wine specials and "sometimes" live music.  The new Collections wine museum will be open late\, plenty of parking and indoor/outdoor seating.  Check the website for more details and a list of food trucks.
X-ALT-DESC;FMTTYPE=text/html:Every Friday night\, Colterris Collections location at 3708 G Road from 5-8pm on Friday nights will have &quot\;Collections After Dark&quot\; with rotating food trucks\, wine specials and &quot\;sometimes&quot\; live music.&nbsp\; The new Collections wine museum will be open late\, plenty of parking and indoor/outdoor seating.&nbsp\; Check the website for more details and a list of food trucks.
LOCATION:3708 G Road Palisade
UID:e.562.14482
SEQUENCE:3
DTSTAMP:20260421T083434Z
URL:https://business.palisadecoc.com/events/details/colterris-collections-after-dark-04-24-2026-14482
END:VEVENT

END:VCALENDAR
