BEGIN:VCALENDAR
VERSION:2.0
PRODID:-//ChamberMaster//Event Calendar 2.0//EN
METHOD:PUBLISH
X-PUBLISHED-TTL:P3D
REFRESH-INTERVAL:P3D
CALSCALE:GREGORIAN
BEGIN:VEVENT
DTSTART:20250618T233000Z
DTEND:20250619T010000Z
X-MICROSOFT-CDO-ALLDAYEVENT:FALSE
SUMMARY:Business After Hours - Varaison Vineyards
DESCRIPTION:Get ready for an evening full of networking during our June Business After Hours hosted by Varaison Vineyards! Experience the Victorian-style venue that has become known for its exquisite wine\, beautiful views\, and gorgeous rose garden! Enjoy all of this while strengthening your professional network!\n\n\n\nBusiness After Hours socials are a great opportunity to network with other business representatives\, be introduced to new products\, and build business relationships in your community.
X-ALT-DESC;FMTTYPE=text/html:Get ready for an evening full of networking during our June Business After Hours hosted by Varaison Vineyards! Experience the Victorian-style venue that has become known for its exquisite wine\, beautiful views\, and gorgeous rose garden! Enjoy all of this while strengthening your professional network!<br />\n<br />\nBusiness After Hours socials are a great opportunity to network with other business representatives\, be introduced to new products\, and build business relationships in your community.
LOCATION:Varaison Vineyards 405 W 1st St\, Palisade\, CO 81526
UID:e.562.12735
SEQUENCE:3
DTSTAMP:20260422T162247Z
URL:https://business.palisadecoc.com/events/details/business-after-hours-varaison-vineyards-12735
END:VEVENT

END:VCALENDAR
