BEGIN:VCALENDAR
VERSION:2.0
PRODID:-//ChamberMaster//Event Calendar 2.0//EN
METHOD:PUBLISH
X-PUBLISHED-TTL:P3D
REFRESH-INTERVAL:P3D
CALSCALE:GREGORIAN
BEGIN:VEVENT
DTSTART:20241219T003000Z
DTEND:20241219T020000Z
X-MICROSOFT-CDO-ALLDAYEVENT:FALSE
SUMMARY:Business After Hours - Grand Valley Bank
DESCRIPTION:Business After Hours socials are a great opportunity to network with other business representatives\, be introduced to new products\, and build business relationships in your community.\n\n\n\nHosting our end-of-year Business After Hours is Grand Valley Bank! Grand Valley Bank found its start in Grand Junction in 1983. Since then\, the company has grown from it's one original office to having 9 full-service banks\, including one here in Palisade! \n\n\n\nMake sure to join us for our last Business After Hours of 2024!
X-ALT-DESC;FMTTYPE=text/html:<span style="color: rgb(68\, 68\, 68)\; font-family: Nunito\, Arial\, Helvetica\, sans-serif\; font-size: 16px\;">Business After Hours socials are a great opportunity to network with other business representatives\, be introduced to new products\, and build business relationships in your community.<br />\n<br />\nHosting our end-of-year Business After Hours is Grand Valley Bank! Grand Valley Bank found its start in Grand Junction in 1983. Since then\, the company has grown from it&#39\;s one original office to having 9 full-service banks\, including one here in Palisade!&nbsp\;<br />\n<br />\nMake sure to join us for our last Business After Hours of 2024!</span>
LOCATION:Orchard River View 3926 HWY 6 &\, 24\, Palisade\, CO 81526
UID:e.562.12547
SEQUENCE:3
DTSTAMP:20260420T125623Z
URL:https://business.palisadecoc.com/events/details/business-after-hours-grand-valley-bank-12547
END:VEVENT

END:VCALENDAR
