BEGIN:VCALENDAR
VERSION:2.0
PRODID:-//ChamberMaster//Event Calendar 2.0//EN
METHOD:PUBLISH
X-PUBLISHED-TTL:P3D
REFRESH-INTERVAL:P3D
CALSCALE:GREGORIAN
BEGIN:VEVENT
DTSTART:20250510T170000Z
DTEND:20250511T013000Z
X-MICROSOFT-CDO-ALLDAYEVENT:FALSE
SUMMARY:Bryce MacEvoy and Premier Concessions at TerraVin Cellars!
DESCRIPTION:Barrel Into Spring (Ticketed Event from 11-5) isn t the only fun TerraVin Cellars is having! Premier Concessions Food Truck will be here serving up deliciousness from 11:00 to when the party stops! Bryce MacEvoy on stage from 5:00-7:30 pm!
X-ALT-DESC;FMTTYPE=text/html:<h2 style="font-style:italic\;">Barrel Into Spring (Ticketed Event from 11-5) isn&acute\;t the only fun TerraVin Cellars is having! Premier Concessions Food Truck will be here serving up deliciousness from 11:00 to when the party stops! Bryce MacEvoy on stage from 5:00-7:30 pm!&nbsp\;</h2>\n
LOCATION:TerraVin Cellars 349 W 8th Street Palisade\, CO 81526
UID:e.562.13427
SEQUENCE:3
DTSTAMP:20260420T102413Z
URL:https://business.palisadecoc.com/events/details/bryce-macevoy-and-premier-concessions-at-terravin-cellars-13427
END:VEVENT

END:VCALENDAR
