BEGIN:VCALENDAR
VERSION:2.0
PRODID:-//ChamberMaster//Event Calendar 2.0//EN
METHOD:PUBLISH
X-PUBLISHED-TTL:P3D
REFRESH-INTERVAL:P3D
CALSCALE:GREGORIAN
BEGIN:VEVENT
DTSTART:20250809T160000Z
DTEND:20250809T220000Z
X-MICROSOFT-CDO-ALLDAYEVENT:FALSE
SUMMARY:4th Annual Back to School Bash
DESCRIPTION:Family fun!  Food\, vendors\, and water activities. BOGO tickets and activities at each booth.
X-ALT-DESC;FMTTYPE=text/html:Family fun!&nbsp\; Food\, vendors\, and water activities. BOGO tickets and activities at each booth.<br />\n<br />\n&nbsp\;
LOCATION:Imondi Wake Zone 1583 Cipolla Road Fruita\, CO 81521
UID:e.562.12701
SEQUENCE:3
DTSTAMP:20260422T200020Z
URL:https://business.palisadecoc.com/events/details/4th-annual-back-to-school-bash-12701
END:VEVENT

END:VCALENDAR
